Workbook

Sheet CLAIM FORM
B1: CONSULTANTS COVERING ABSENT COLLEAGUES DUTY CLAIM FORM
B2: East Cheshire NHS Trust (VPD - 209) | F2: Fill in the blue cells
D3: TITLE | J3: 'SOCIAL' | K3: hours are Monday - Friday 0700-1900hrs
D4: SURNAME | J4: 'UNSOCIAL' | K4: hours are 1900-0700 Moday to Friday and all Weekend
D5: FIRST NAME
D6: SPECIALTY
D7: ASSIGNMENT NO.
E9: What GRADE of Doctor were you covering for? | J9: ESTIMATED END DATE
B10: What DATE did your duty start on? (Use DD/MM/YY) | G10: ..which was a | H10: =IF(K10="","",TEXT(F10,"Dddd")) | J10: based on time difference | K10: =IF(F10="","",IF(F11="","",IF(F12="","",IF(F12=F11,(F10+1),IF(F12<F11,(F10+1),F10)))))
B11: What TIME did your duty START? (Use 24hr clock: HH:MM) | G11: ..round down to nearest 1/2 hour
B12: What TIME did your duty END? (Use 24hr clock: 22:30) | G12: ..round up to nearest 1/2 hour | J12: START DATETIME | K12: =F10+F11 -> 0
B13: Based on these times I think your duty ended on: | F13: =K10 | G13: … if this isn't correct check your times & date | J13: END DATETIME | K13: =F13+F12 -> #VALUE!
B14: Based on these times I think your total duty period was: (hrs) | F14: =K14 | G14: … if this isn't correct check your times & date | J14: DURATION of duty | K14: =IF(F11="","",IF(F12="","",(K13-K12)*24))
J16: NON-RESIDENT HOURS | K16: =IF(F10="","",IF(F11="","",IF(F12="","",(K13-K12)*24)))
B17: COVERING FOR A CONSULTANT | E17: List the periods of time you were RESIDENT during this duty
E19: Round up to nearest 1/2 hour
D20: Was this Period | E20: DURATION OF | F20: PAY | G20: INDICATIVE
B21: FROM | C21: TO | D21: in ANTI-SOCIAL | E21: THIS PERIOD | F21: RATE | G21: PAY
B22: (HH:MM) | C22: (HH:MM) | D22: Time (Pick Y/N) | E22: (hrs) | F22: (£/hr) | G22: (£)
E23: =IF(C23="","?",IF(B23="","?",IF(C23=B23,24,((C23-B23+(B23>C23))*24)))) -> ? | F23: =IF(D23="Y",PICKLISTS!$E$3,PICKLISTS!$E$2) -> 96 | G23: =IF(E23="?",0,E23*F23) -> 0
E24: =IF(C24="","?",IF(B24="","?",IF(C24=B24,24,((C24-B24+(B24>C24))*24)))) -> ? | F24: =IF(D24="Y",PICKLISTS!$E$3,PICKLISTS!$E$2) -> 96 | G24: =IF(E24="?",0,E24*F24) -> 0
E25: =IF(C25="","?",IF(B25="","?",IF(C25=B25,24,((C25-B25+(B25>C25))*24)))) -> ? | F25: =IF(D25="Y",PICKLISTS!$E$3,PICKLISTS!$E$2) -> 96 | G25: =IF(E25="?",0,E25*F25) -> 0
E26: =IF(C26="","?",IF(B26="","?",IF(C26=B26,24,((C26-B26+(B26>C26))*24)))) -> ? | F26: =IF(D26="Y",PICKLISTS!$E$3,PICKLISTS!$E$2) -> 96 | G26: =IF(E26="?",0,E26*F26) -> 0
E27: =IF(C27="","?",IF(B27="","?",IF(C27=B27,24,((C27-B27+(B27>C27))*24)))) -> ? | F27: =IF(D27="Y",PICKLISTS!$E$3,PICKLISTS!$E$2) -> 96 | G27: =IF(E27="?",0,E27*F27) -> 0
E28: =IF(C28="","?",IF(B28="","?",IF(C28=B28,24,((C28-B28+(B28>C28))*24)))) -> ? | F28: =IF(D28="Y",PICKLISTS!$E$3,PICKLISTS!$E$2) -> 96 | G28: =IF(E28="?",0,E28*F28) -> 0
E29: =IF(C29="","?",IF(B29="","?",IF(C29=B29,24,((C29-B29+(B29>C29))*24)))) -> ? | F29: =IF(D29="Y",PICKLISTS!$E$3,PICKLISTS!$E$2) -> 96 | G29: =IF(E29="?",0,E29*F29) -> 0
B30: use 'CLICK 'N' PICK' to select Grade of Doctor covered
B31: TOTAL RESIDENT TIME | D31: HOURS | E31: =SUM(E23:E30) -> 0 | F31: INDICATIVE PAY | G31: =SUM(G23:G30) -> 0
D32: Use CLICK 'N' PICK' to reveal the relevant section
F35: PAY RATE | G35: INDICATIVE PAY
B36: NON-RESIDENT TIME | D36: HOURS | E36: =IF(F12="",0,(K16-E31)) -> 0 | F36: =PICKLISTS!E4 -> 76 | G36: =E36*F36 -> 0
D37: Click the 'EXAMPLES' Tab at the bottom for help.
B39: Your total duty was | C39: =F14 | D39: Hours, of which | E39: =E31 -> 0 | F39: were RESIDENT = | G39: =G31 -> 0
E40: =E36 -> 0 | F40: were NON-RESIDENT = | G40: =G36 -> 0
F41: Your indicative pay wil be (£) | G41: =IF(F9=PICKLISTS!G4,"0",G36+G31) -> 0
B47: COVERING FOR A NON-CONSULTANT
B49: TOTAL DUTY TIME | D49: =F14 | E49: hours | F49: Payable at | G49: =IF(F9=PICKLISTS!G4,PICKLISTS!E5,"")
B52: Email completed forms to: | D52: ecn-tr.medicalpayclaims@nhs.net
B54: "I declare that the information I have given on this form is correct and complete and that I have not claimed elsewhere for the hours/shifts detailed on this timesheet. I also confirm that I am not already job planned to work during any of the hours covered within this claim. I understand that if I knowingly provide false information this may result in disciplinary action and I may be liable for prosecution and civil recovery proceedings. I consent to the disclosure of information from this form to and by the Trust and the NHS Counter Fraud and Security Management Service for the purpose of verification of this claim and the investigation, prevention, detection and prosecution of fraud. I understand that in line with Trust policy, I will only submit claims within 3 months from the date of the session being worked, and forms received later than this will not be processed for payment."
B59: Submitted by:
...

Sheet EXAMPLES
A1: Examples of how some common duties would be recorded in the Claim Form
A3: DAY DUTY WITH SOME HOURS OUTSIDE 'SOCIAL' TIME | L3: NIGHT DUTY - STARTING AT 1800, ONSITE 2000-2300 THEN ON-CALL TIL 0800
A35: LATE' DUTY EXTENDING BEYOND 1900HRS | L35: NIGHT DUTY AT WEEKEND WITH WARD ROUNDS AT START AND END OF DUTY

Sheet PICKLISTS
B2: Choices | D2: Resident Social | E2: 96 | G2: CLICK 'N' PICK
B3: Y | D3: Resident Anti-social | E3: 106 | G3: Consultant
B4: N | D4: Non-Resident | E4: 76 | G4: Non-Consultant
D5: Non-Consultant | E5: 3 x Usual Rate & CEA's and calculated by Payroll
